BEGIN:VCALENDAR
VERSION:2.0
PRODID:icalendar-ruby
CALSCALE:GREGORIAN
METHOD:PUBLISH
BEGIN:VEVENT
DTSTAMP:20260422T114533Z
UID:5-748342@oasisof.tithelysetup2.com
DTSTART:20261025T150000Z
DTEND:20261025T160000Z
CLASS:PUBLIC
CREATED:20260422T070553
DESCRIPTION:Sunday Worship
LAST-MODIFIED:20260422T070553
LOCATION:
SUMMARY:Sunday Worship
URL;VALUE=URI:https://oasisof.tithelysetup2.com/events/sunday-worship/2026-
 10-25
END:VEVENT
END:VCALENDAR
