BEGIN:VCALENDAR
VERSION:2.0
PRODID:icalendar-ruby
CALSCALE:GREGORIAN
METHOD:PUBLISH
BEGIN:VEVENT
DTSTAMP:20260422T015822Z
UID:5-747957@oasisof.tithelysetup2.com
DTSTART:20260913T150000Z
DTEND:20260913T160000Z
CLASS:PUBLIC
CREATED:20260421T200624
DESCRIPTION:Sunday Worship
LAST-MODIFIED:20260421T200624
LOCATION:
SUMMARY:Sunday Worship
URL;VALUE=URI:https://oasisof.tithelysetup2.com/events/sunday-worship/2026-
 09-13
END:VEVENT
END:VCALENDAR
