BEGIN:VCALENDAR
VERSION:2.0
PRODID:icalendar-ruby
CALSCALE:GREGORIAN
METHOD:PUBLISH
BEGIN:VEVENT
DTSTAMP:20260421T220137Z
UID:5-747576@oasisof.tithelysetup2.com
DTSTART:20260830T150000Z
DTEND:20260830T160000Z
CLASS:PUBLIC
CREATED:20260421T172743
DESCRIPTION:Sunday Worship
LAST-MODIFIED:20260421T172743
LOCATION:
SUMMARY:Sunday Worship
URL;VALUE=URI:https://oasisof.tithelysetup2.com/events/sunday-worship/2026-
 08-30
END:VEVENT
END:VCALENDAR
