BEGIN:VCALENDAR
VERSION:2.0
PRODID:icalendar-ruby
CALSCALE:GREGORIAN
METHOD:PUBLISH
BEGIN:VEVENT
DTSTAMP:20260421T202247Z
UID:5-747196@oasisof.tithelysetup2.com
DTSTART:20260823T150000Z
DTEND:20260823T160000Z
CLASS:PUBLIC
CREATED:20260421T145045
DESCRIPTION:Sunday Worship
LAST-MODIFIED:20260421T145045
LOCATION:
SUMMARY:Sunday Worship
URL;VALUE=URI:https://oasisof.tithelysetup2.com/events/sunday-worship/2026-
 08-23
END:VEVENT
END:VCALENDAR
